BEGIN:VCALENDAR
VERSION:2.0
PRODID:-//MyBar by David Gran - ECPv6.8.1//NONSGML v1.0//EN
CALSCALE:GREGORIAN
METHOD:PUBLISH
X-WR-CALNAME:MyBar by David Gran
X-ORIGINAL-URL:https://davidgran.de
X-WR-CALDESC:Veranstaltungen für MyBar by David Gran
REFRESH-INTERVAL;VALUE=DURATION:PT1H
X-Robots-Tag:noindex
X-PUBLISHED-TTL:PT1H
BEGIN:VTIMEZONE
TZID:Europe/Helsinki
BEGIN:DAYLIGHT
TZOFFSETFROM:+0200
TZOFFSETTO:+0300
TZNAME:EEST
DTSTART:20250330T010000
END:DAYLIGHT
BEGIN:STANDARD
TZOFFSETFROM:+0300
TZOFFSETTO:+0200
TZNAME:EET
DTSTART:20251026T010000
END:STANDARD
END:VTIMEZONE
BEGIN:VEVENT
DTSTART;TZID=Europe/Helsinki:20251122T193000
DTEND;TZID=Europe/Helsinki:20251122T213000
DTSTAMP:20260424T150846
CREATED:20230626T091315Z
LAST-MODIFIED:20251009T081918Z
UID:30475-1763839800-1763847000@davidgran.de
SUMMARY:Weihnachts Gin Release 22.11.2025
DESCRIPTION:Am 22. November nehme ich euch wieder mit auf eine kleine Reise in die wunderbare Welt der weihnachtlichen Wacholderdestillate.\n\nVerkostet werden gemeinsam 6 verschiedene Gins\, von London Dry bis New Western ist alles mit dabei was zu Weihnachten passt. Und das Beste?\nIhr müsst dafür nicht mal die Couch verlassen!\n\nAuch diesmal sind wieder sieben sehr außergewöhnliche Gins mit dabei. \n\nVerkostet werden diesmal: \n– myBar by David Gran Christmas Gin No. I\n– myBar by David Gran Christmas Gin No. II\n– myBar by David Gran Nordic Herbs Gin\n– myBar by David Gran Kaffee Gin\n– myBar by David Gran Flowers Gin\n– myBar by David Gran Barrel Aged Gin Tropical Fruits \nIhr erhaltet 6x 20ml Gin und 3x 200ml Tonic Water – oder in der Premium Variante 6x 40ml Gin und 3x 200ml Tonic Water. Die Sample Sets werden den Teilnehmer*innen zugesendet und das Tasting findet via Zoom statt. \n\n\nWann?\n22.11.2025 \n\n\nWo?\nOnline via Zoom \n\n\nWas kostet das Tasting-Set?\nDas Tasting kostet normal 39\,00 € pro Person zzgl. Versand\,\ndie Premiumvariante liegt bei 45\,00 € pro Person zzgl. Versand \n\n\n  \nTasting bestellen
URL:https://davidgran.de/tasting/weihnachts-gin2025/
CATEGORIES:Gin
ATTACH;FMTTYPE=image/webp:https://davidgran.de/wp-content/uploads/2024/02/Header-Whisky-Tastings-scaled.webp
END:VEVENT
END:VCALENDAR